BEGIN:VCALENDAR
VERSION:2.0
PRODID:-//Valentine Neighborhood Association - ECPv6.15.20//NONSGML v1.0//EN
CALSCALE:GREGORIAN
METHOD:PUBLISH
X-WR-CALNAME:Valentine Neighborhood Association
X-ORIGINAL-URL:https://valentineneighborhood.org
X-WR-CALDESC:Events for Valentine Neighborhood Association
REFRESH-INTERVAL;VALUE=DURATION:PT1H
X-Robots-Tag:noindex
X-PUBLISHED-TTL:PT1H
BEGIN:VTIMEZONE
TZID:America/Chicago
BEGIN:DAYLIGHT
TZOFFSETFROM:-0600
TZOFFSETTO:-0500
TZNAME:CDT
DTSTART:20220313T080000
END:DAYLIGHT
BEGIN:STANDARD
TZOFFSETFROM:-0500
TZOFFSETTO:-0600
TZNAME:CST
DTSTART:20221106T070000
END:STANDARD
BEGIN:DAYLIGHT
TZOFFSETFROM:-0600
TZOFFSETTO:-0500
TZNAME:CDT
DTSTART:20230312T080000
END:DAYLIGHT
BEGIN:STANDARD
TZOFFSETFROM:-0500
TZOFFSETTO:-0600
TZNAME:CST
DTSTART:20231105T070000
END:STANDARD
BEGIN:DAYLIGHT
TZOFFSETFROM:-0600
TZOFFSETTO:-0500
TZNAME:CDT
DTSTART:20240310T080000
END:DAYLIGHT
BEGIN:STANDARD
TZOFFSETFROM:-0500
TZOFFSETTO:-0600
TZNAME:CST
DTSTART:20241103T070000
END:STANDARD
END:VTIMEZONE
BEGIN:VEVENT
DTSTART;TZID=America/Chicago:20231015T130000
DTEND;TZID=America/Chicago:20231015T150000
DTSTAMP:20260422T194931
CREATED:20231013T150129Z
LAST-MODIFIED:20231013T150129Z
UID:2177-1697374800-1697382000@valentineneighborhood.org
SUMMARY:Triangle Cleanup
DESCRIPTION:We’ve made improvements to the “triangle” at the intersection of Valentine Road and Southwest Trafficway. Earlier this year\, the VNA received a grant that helped us install a water spigot on the triangle. Now we’re getting started on a new environmentally-friendly landscape. A work day is planned for Sunday\, Oct. 15 at 1 p.m. Bring your shovel and other tools for digging.
URL:https://valentineneighborhood.org/event/triangle-cleanup/
CATEGORIES:Cleanup
END:VEVENT
END:VCALENDAR