BEGIN:VCALENDAR
VERSION:2.0
PRODID:-//Valentine Neighborhood Association - ECPv6.15.20//NONSGML v1.0//EN
CALSCALE:GREGORIAN
METHOD:PUBLISH
X-WR-CALNAME:Valentine Neighborhood Association
X-ORIGINAL-URL:https://valentineneighborhood.org
X-WR-CALDESC:Events for Valentine Neighborhood Association
REFRESH-INTERVAL;VALUE=DURATION:PT1H
X-Robots-Tag:noindex
X-PUBLISHED-TTL:PT1H
BEGIN:VTIMEZONE
TZID:America/Chicago
BEGIN:DAYLIGHT
TZOFFSETFROM:-0600
TZOFFSETTO:-0500
TZNAME:CDT
DTSTART:20230312T080000
END:DAYLIGHT
BEGIN:STANDARD
TZOFFSETFROM:-0500
TZOFFSETTO:-0600
TZNAME:CST
DTSTART:20231105T070000
END:STANDARD
BEGIN:DAYLIGHT
TZOFFSETFROM:-0600
TZOFFSETTO:-0500
TZNAME:CDT
DTSTART:20240310T080000
END:DAYLIGHT
BEGIN:STANDARD
TZOFFSETFROM:-0500
TZOFFSETTO:-0600
TZNAME:CST
DTSTART:20241103T070000
END:STANDARD
BEGIN:DAYLIGHT
TZOFFSETFROM:-0600
TZOFFSETTO:-0500
TZNAME:CDT
DTSTART:20250309T080000
END:DAYLIGHT
BEGIN:STANDARD
TZOFFSETFROM:-0500
TZOFFSETTO:-0600
TZNAME:CST
DTSTART:20251102T070000
END:STANDARD
END:VTIMEZONE
BEGIN:VEVENT
DTSTART;TZID=America/Chicago:20241026T090000
DTEND;TZID=America/Chicago:20241026T130000
DTSTAMP:20260422T015619
CREATED:20240523T154730Z
LAST-MODIFIED:20240523T154730Z
UID:2363-1729933200-1729947600@valentineneighborhood.org
SUMMARY:Dumpsters
DESCRIPTION:The two dumpsters will be at the corner of Jefferson and Valentine on the south side of Valentine: one for yard waste and one for trash. The dumpsters fill up fast\, so remember to be early. The dumpsters open at 9 a.m. \nRemember that you must be a member of the Valentine Neighborhood Association to use the dumpsters. We’ll be on hand that day if you need to pay your dues. Pay in advance at our online store or check our website to make sure your membership is paid. You may pay at the dumpsters as well.
URL:https://valentineneighborhood.org/event/dumpsters-4/
CATEGORIES:Cleanup
END:VEVENT
END:VCALENDAR