BEGIN:VCALENDAR
VERSION:2.0
PRODID:-//Valentine Neighborhood Association - ECPv6.15.20//NONSGML v1.0//EN
CALSCALE:GREGORIAN
METHOD:PUBLISH
X-ORIGINAL-URL:https://valentineneighborhood.org
X-WR-CALDESC:Events for Valentine Neighborhood Association
REFRESH-INTERVAL;VALUE=DURATION:PT1H
X-Robots-Tag:noindex
X-PUBLISHED-TTL:PT1H
BEGIN:VTIMEZONE
TZID:America/Chicago
BEGIN:DAYLIGHT
TZOFFSETFROM:-0600
TZOFFSETTO:-0500
TZNAME:CDT
DTSTART:20240310T080000
END:DAYLIGHT
BEGIN:STANDARD
TZOFFSETFROM:-0500
TZOFFSETTO:-0600
TZNAME:CST
DTSTART:20241103T070000
END:STANDARD
BEGIN:DAYLIGHT
TZOFFSETFROM:-0600
TZOFFSETTO:-0500
TZNAME:CDT
DTSTART:20250309T080000
END:DAYLIGHT
BEGIN:STANDARD
TZOFFSETFROM:-0500
TZOFFSETTO:-0600
TZNAME:CST
DTSTART:20251102T070000
END:STANDARD
BEGIN:DAYLIGHT
TZOFFSETFROM:-0600
TZOFFSETTO:-0500
TZNAME:CDT
DTSTART:20260308T080000
END:DAYLIGHT
BEGIN:STANDARD
TZOFFSETFROM:-0500
TZOFFSETTO:-0600
TZNAME:CST
DTSTART:20261101T070000
END:STANDARD
END:VTIMEZONE
BEGIN:VEVENT
DTSTART;TZID=America/Chicago:20250419T090000
DTEND;TZID=America/Chicago:20250419T120000
DTSTAMP:20260421T164454
CREATED:20250411T183104Z
LAST-MODIFIED:20250411T183104Z
UID:2578-1745053200-1745064000@valentineneighborhood.org
SUMMARY:Valentine Cleanup
DESCRIPTION:Valentine is signed up to participate in the Great KC Cleanupon April 19. Neighborhood associations will join community groups\, city staff\, and others to pick up trash and litter. The neighborhood will provide trash bags and gloves. Meet at 9 a.m. at the Washington Street closing (Washington and Valentine).
URL:https://valentineneighborhood.org/event/valentine-cleanup/
CATEGORIES:Cleanup
END:VEVENT
END:VCALENDAR