BEGIN:VCALENDAR
VERSION:2.0
PRODID:-//Valentine Neighborhood Association - ECPv6.15.20//NONSGML v1.0//EN
CALSCALE:GREGORIAN
METHOD:PUBLISH
X-WR-CALNAME:Valentine Neighborhood Association
X-ORIGINAL-URL:https://valentineneighborhood.org
X-WR-CALDESC:Events for Valentine Neighborhood Association
REFRESH-INTERVAL;VALUE=DURATION:PT1H
X-Robots-Tag:noindex
X-PUBLISHED-TTL:PT1H
BEGIN:VTIMEZONE
TZID:America/Chicago
BEGIN:DAYLIGHT
TZOFFSETFROM:-0600
TZOFFSETTO:-0500
TZNAME:CDT
DTSTART:20210314T080000
END:DAYLIGHT
BEGIN:STANDARD
TZOFFSETFROM:-0500
TZOFFSETTO:-0600
TZNAME:CST
DTSTART:20211107T070000
END:STANDARD
BEGIN:DAYLIGHT
TZOFFSETFROM:-0600
TZOFFSETTO:-0500
TZNAME:CDT
DTSTART:20220313T080000
END:DAYLIGHT
BEGIN:STANDARD
TZOFFSETFROM:-0500
TZOFFSETTO:-0600
TZNAME:CST
DTSTART:20221106T070000
END:STANDARD
BEGIN:DAYLIGHT
TZOFFSETFROM:-0600
TZOFFSETTO:-0500
TZNAME:CDT
DTSTART:20230312T080000
END:DAYLIGHT
BEGIN:STANDARD
TZOFFSETFROM:-0500
TZOFFSETTO:-0600
TZNAME:CST
DTSTART:20231105T070000
END:STANDARD
END:VTIMEZONE
BEGIN:VEVENT
DTSTART;TZID=America/Chicago:20220727T190000
DTEND;TZID=America/Chicago:20220727T203000
DTSTAMP:20260423T121003
CREATED:20220720T175648Z
LAST-MODIFIED:20220720T175648Z
UID:1747-1658948400-1658953800@valentineneighborhood.org
SUMMARY:General Meeting: Missouri Legislature Post-Roe Update
DESCRIPTION:Note new location: Converge KC \nGuest Speaker: Emily Weber\, who represents our district in the Missouri House of Representatives. Weber will give us an update on legislative activities in Jefferson City\, including issues around abortion and birth control following the Supreme Court decision overturning Roe vs. Wade. She will also tell us about other efforts going on at the state legislature and answer your questions. \nWe will have our usual updates and a chance for you to share questions and concerns. VNA meetings are open to all. If you are a resident of the Converge KC Apartments\, we welcome you to join us and become more connected to your neighborhood. \nConverge KC is the former Valentine Shopping Center that has now been converted into an apartment building known as Converge KC. There is plenty of parking in the large lot on the south side of the building. The door is on the south side of the building near the middle.
URL:https://valentineneighborhood.org/event/general-meeting-missouri-legislature-post-roe-update/
LOCATION:Converge KC\, 3600 Broadway\, Kansas City\, MO\, 64111\, United States
CATEGORIES:General meeting
END:VEVENT
END:VCALENDAR