BEGIN:VCALENDAR
VERSION:2.0
PRODID:-//Valentine Neighborhood Association - ECPv6.15.20//NONSGML v1.0//EN
CALSCALE:GREGORIAN
METHOD:PUBLISH
X-WR-CALNAME:Valentine Neighborhood Association
X-ORIGINAL-URL:https://valentineneighborhood.org
X-WR-CALDESC:Events for Valentine Neighborhood Association
REFRESH-INTERVAL;VALUE=DURATION:PT1H
X-Robots-Tag:noindex
X-PUBLISHED-TTL:PT1H
BEGIN:VTIMEZONE
TZID:America/Chicago
BEGIN:DAYLIGHT
TZOFFSETFROM:-0600
TZOFFSETTO:-0500
TZNAME:CDT
DTSTART:20220313T080000
END:DAYLIGHT
BEGIN:STANDARD
TZOFFSETFROM:-0500
TZOFFSETTO:-0600
TZNAME:CST
DTSTART:20221106T070000
END:STANDARD
BEGIN:DAYLIGHT
TZOFFSETFROM:-0600
TZOFFSETTO:-0500
TZNAME:CDT
DTSTART:20230312T080000
END:DAYLIGHT
BEGIN:STANDARD
TZOFFSETFROM:-0500
TZOFFSETTO:-0600
TZNAME:CST
DTSTART:20231105T070000
END:STANDARD
BEGIN:DAYLIGHT
TZOFFSETFROM:-0600
TZOFFSETTO:-0500
TZNAME:CDT
DTSTART:20240310T080000
END:DAYLIGHT
BEGIN:STANDARD
TZOFFSETFROM:-0500
TZOFFSETTO:-0600
TZNAME:CST
DTSTART:20241103T070000
END:STANDARD
END:VTIMEZONE
BEGIN:VEVENT
DTSTART;TZID=America/Chicago:20230125T190000
DTEND;TZID=America/Chicago:20230125T203000
DTSTAMP:20260423T033502
CREATED:20221221T190344Z
LAST-MODIFIED:20221221T190344Z
UID:1836-1674673200-1674678600@valentineneighborhood.org
SUMMARY:Valentine Annual Meeting
DESCRIPTION:Mark your calendar for our first annual meeting. We’ll get reports on the activities of the neighborhood association over the past several years\, updates on committee work\, a financial report and will vote on proposed changes to the bylaws. Watch this email for more details in January. Location TBD.
URL:https://valentineneighborhood.org/event/valentine-annual-meeting/
CATEGORIES:General meeting
END:VEVENT
BEGIN:VEVENT
DTSTART;TZID=America/Chicago:20230125T190000
DTEND;TZID=America/Chicago:20230125T203000
DTSTAMP:20260423T033502
CREATED:20230122T220412Z
LAST-MODIFIED:20230122T220528Z
UID:1882-1674673200-1674678600@valentineneighborhood.org
SUMMARY:VNA Annual Meeting
DESCRIPTION:VNA invites all members to its first annual meeting.  Since officers are elected in October\, this is a chance to hear from your new board about priorities and plans for the new year\, to receive a financial report and budget for the year\, and to offer your input into priorities for the coming year. We will also be voting on changes to our bylaws. \nOur first annual meeting will be held on Wednesday\, Jan. 5 at 7 p.m. at our new meeting location\, the Education Center\, room EC004\, at Penn Valley Community College. \nThe building is in Penn Valley Parking Lot A. map
URL:https://valentineneighborhood.org/event/vna-annual-meeting/
CATEGORIES:General meeting
END:VEVENT
END:VCALENDAR