BEGIN:VCALENDAR
VERSION:2.0
PRODID:-//Valentine Neighborhood Association - ECPv6.15.20//NONSGML v1.0//EN
CALSCALE:GREGORIAN
METHOD:PUBLISH
X-WR-CALNAME:Valentine Neighborhood Association
X-ORIGINAL-URL:https://valentineneighborhood.org
X-WR-CALDESC:Events for Valentine Neighborhood Association
REFRESH-INTERVAL;VALUE=DURATION:PT1H
X-Robots-Tag:noindex
X-PUBLISHED-TTL:PT1H
BEGIN:VTIMEZONE
TZID:America/Chicago
BEGIN:DAYLIGHT
TZOFFSETFROM:-0600
TZOFFSETTO:-0500
TZNAME:CDT
DTSTART:20220313T080000
END:DAYLIGHT
BEGIN:STANDARD
TZOFFSETFROM:-0500
TZOFFSETTO:-0600
TZNAME:CST
DTSTART:20221106T070000
END:STANDARD
BEGIN:DAYLIGHT
TZOFFSETFROM:-0600
TZOFFSETTO:-0500
TZNAME:CDT
DTSTART:20230312T080000
END:DAYLIGHT
BEGIN:STANDARD
TZOFFSETFROM:-0500
TZOFFSETTO:-0600
TZNAME:CST
DTSTART:20231105T070000
END:STANDARD
BEGIN:DAYLIGHT
TZOFFSETFROM:-0600
TZOFFSETTO:-0500
TZNAME:CDT
DTSTART:20240310T080000
END:DAYLIGHT
BEGIN:STANDARD
TZOFFSETFROM:-0500
TZOFFSETTO:-0600
TZNAME:CST
DTSTART:20241103T070000
END:STANDARD
END:VTIMEZONE
BEGIN:VEVENT
DTSTART;TZID=America/Chicago:20230726T190000
DTEND;TZID=America/Chicago:20230726T200000
DTSTAMP:20260422T182953
CREATED:20230716T211313Z
LAST-MODIFIED:20230716T211313Z
UID:2127-1690398000-1690401600@valentineneighborhood.org
SUMMARY:VNA General Meeting
DESCRIPTION:We hope to see all Valentine residents at our monthly neighborhood meeting July 26. The agenda includes: \n·      Penn Valley Community College and Valentine \n·      Water at the triangle \n·      Drainage Issues north of Valentine Road \n·      38th and Washington Task Force \n·      Crime and Safety Update\, including 38th and Washington \n·      Planning for Progressive Dinner \n·      Porchfest Update \n·      Nominating Committee for VNA officers \n·      Midtown KC Now Update \n\nWord on the Street – your chance to bring up issues\, concerns and ideas for future meeting topics\n\nThe meeting will be held at the Education Center\, room EC004\, at Penn Valley Community College.  The building is in Penn Valley Parking Lot A. map 
URL:https://valentineneighborhood.org/event/vna-general-meeting-2/
CATEGORIES:General meeting
END:VEVENT
END:VCALENDAR