BEGIN:VCALENDAR
VERSION:2.0
PRODID:-//Valentine Neighborhood Association - ECPv6.15.20//NONSGML v1.0//EN
CALSCALE:GREGORIAN
METHOD:PUBLISH
X-WR-CALNAME:Valentine Neighborhood Association
X-ORIGINAL-URL:https://valentineneighborhood.org
X-WR-CALDESC:Events for Valentine Neighborhood Association
REFRESH-INTERVAL;VALUE=DURATION:PT1H
X-Robots-Tag:noindex
X-PUBLISHED-TTL:PT1H
BEGIN:VTIMEZONE
TZID:America/Chicago
BEGIN:DAYLIGHT
TZOFFSETFROM:-0600
TZOFFSETTO:-0500
TZNAME:CDT
DTSTART:20230312T080000
END:DAYLIGHT
BEGIN:STANDARD
TZOFFSETFROM:-0500
TZOFFSETTO:-0600
TZNAME:CST
DTSTART:20231105T070000
END:STANDARD
BEGIN:DAYLIGHT
TZOFFSETFROM:-0600
TZOFFSETTO:-0500
TZNAME:CDT
DTSTART:20240310T080000
END:DAYLIGHT
BEGIN:STANDARD
TZOFFSETFROM:-0500
TZOFFSETTO:-0600
TZNAME:CST
DTSTART:20241103T070000
END:STANDARD
BEGIN:DAYLIGHT
TZOFFSETFROM:-0600
TZOFFSETTO:-0500
TZNAME:CDT
DTSTART:20250309T080000
END:DAYLIGHT
BEGIN:STANDARD
TZOFFSETFROM:-0500
TZOFFSETTO:-0600
TZNAME:CST
DTSTART:20251102T070000
END:STANDARD
END:VTIMEZONE
BEGIN:VEVENT
DTSTART;TZID=America/Chicago:20240828T190000
DTEND;TZID=America/Chicago:20240828T200000
DTSTAMP:20260421T223509
CREATED:20240822T161251Z
LAST-MODIFIED:20240822T161251Z
UID:2379-1724871600-1724875200@valentineneighborhood.org
SUMMARY:General meeting
DESCRIPTION:We look forward to seeing everyone at our August 28 General Meeting. Here’s the agenda: \n\nUpdate from 4th District Councilman (and our neighbor) Crispin Rea\nDance in the Park\nCommittee Reports: reports from the development\, crime\, 38th Street Task Force\, entertainment\, and neighborhood environment committees\nOctober Elections: Nominations Open\nMembership input: ideas for guest speakers\, issues and concerns.\n\nOur meetings are held at the MCC-Penn Valley Education Center\, room EC004\, from 7 to 8 p.m. map
URL:https://valentineneighborhood.org/event/general-meeting-7/
LOCATION:MCC-Penn Valley Education Center\, room EC004
CATEGORIES:General meeting
END:VEVENT
END:VCALENDAR