BEGIN:VCALENDAR
VERSION:2.0
PRODID:-//Valentine Neighborhood Association - ECPv6.15.20//NONSGML v1.0//EN
CALSCALE:GREGORIAN
METHOD:PUBLISH
X-WR-CALNAME:Valentine Neighborhood Association
X-ORIGINAL-URL:https://valentineneighborhood.org
X-WR-CALDESC:Events for Valentine Neighborhood Association
REFRESH-INTERVAL;VALUE=DURATION:PT1H
X-Robots-Tag:noindex
X-PUBLISHED-TTL:PT1H
BEGIN:VTIMEZONE
TZID:America/Chicago
BEGIN:DAYLIGHT
TZOFFSETFROM:-0600
TZOFFSETTO:-0500
TZNAME:CDT
DTSTART:20240310T080000
END:DAYLIGHT
BEGIN:STANDARD
TZOFFSETFROM:-0500
TZOFFSETTO:-0600
TZNAME:CST
DTSTART:20241103T070000
END:STANDARD
BEGIN:DAYLIGHT
TZOFFSETFROM:-0600
TZOFFSETTO:-0500
TZNAME:CDT
DTSTART:20250309T080000
END:DAYLIGHT
BEGIN:STANDARD
TZOFFSETFROM:-0500
TZOFFSETTO:-0600
TZNAME:CST
DTSTART:20251102T070000
END:STANDARD
BEGIN:DAYLIGHT
TZOFFSETFROM:-0600
TZOFFSETTO:-0500
TZNAME:CDT
DTSTART:20260308T080000
END:DAYLIGHT
BEGIN:STANDARD
TZOFFSETFROM:-0500
TZOFFSETTO:-0600
TZNAME:CST
DTSTART:20261101T070000
END:STANDARD
END:VTIMEZONE
BEGIN:VEVENT
DTSTART;TZID=America/Chicago:20250122T190000
DTEND;TZID=America/Chicago:20250122T200000
DTSTAMP:20260421T143125
CREATED:20250118T155854Z
LAST-MODIFIED:20250118T155854Z
UID:2487-1737572400-1737576000@valentineneighborhood.org
SUMMARY:Annual Meeting
DESCRIPTION:We look forward to seeing everyone at our Jan. 22 General Meeting. This is our annual meeting. Here’s the agenda: \n\nAnnual meeting\n\nPlans for 2025\nBudget for the year\nChanges to by-laws\nCommittee goals\n\n\n\nWe will be forming new committees and making to-do lists for the year. This is a great time to get more involved ! Come to the meeting and see where you would like to direct your passions for making Valentine a better place to live. \n  \nOur meetings are held at the MCC-Penn Valley Education Center\, room EC004\, from 7 to 8 p.m. map
URL:https://valentineneighborhood.org/event/annual-meeting/
LOCATION:MCC-Penn Valley Education Center\, room EC004
CATEGORIES:General meeting
END:VEVENT
END:VCALENDAR