BEGIN:VCALENDAR
VERSION:2.0
PRODID:-//Valentine Neighborhood Association - ECPv6.15.20//NONSGML v1.0//EN
CALSCALE:GREGORIAN
METHOD:PUBLISH
X-ORIGINAL-URL:https://valentineneighborhood.org
X-WR-CALDESC:Events for Valentine Neighborhood Association
REFRESH-INTERVAL;VALUE=DURATION:PT1H
X-Robots-Tag:noindex
X-PUBLISHED-TTL:PT1H
BEGIN:VTIMEZONE
TZID:America/Chicago
BEGIN:DAYLIGHT
TZOFFSETFROM:-0600
TZOFFSETTO:-0500
TZNAME:CDT
DTSTART:20220313T080000
END:DAYLIGHT
BEGIN:STANDARD
TZOFFSETFROM:-0500
TZOFFSETTO:-0600
TZNAME:CST
DTSTART:20221106T070000
END:STANDARD
BEGIN:DAYLIGHT
TZOFFSETFROM:-0600
TZOFFSETTO:-0500
TZNAME:CDT
DTSTART:20230312T080000
END:DAYLIGHT
BEGIN:STANDARD
TZOFFSETFROM:-0500
TZOFFSETTO:-0600
TZNAME:CST
DTSTART:20231105T070000
END:STANDARD
BEGIN:DAYLIGHT
TZOFFSETFROM:-0600
TZOFFSETTO:-0500
TZNAME:CDT
DTSTART:20240310T080000
END:DAYLIGHT
BEGIN:STANDARD
TZOFFSETFROM:-0500
TZOFFSETTO:-0600
TZNAME:CST
DTSTART:20241103T070000
END:STANDARD
END:VTIMEZONE
BEGIN:VEVENT
DTSTART;TZID=America/Chicago:20230322T070000
DTEND;TZID=America/Chicago:20230322T200000
DTSTAMP:20260423T020647
CREATED:20230321T201214Z
LAST-MODIFIED:20230321T201249Z
UID:2006-1679468400-1679515200@valentineneighborhood.org
SUMMARY:Join Us For A General Meeting March 22\, 7 p.m.
DESCRIPTION:Please join us for a Valentine Neighborhood Association general meeting on Wednesday\, March 22 at 7 p.m. We’ll be meeting at our new permanent location\, The Penn Valley Community College Education Center\, room EC004. The agenda includes:\n\nMeet the Valentine Business: Post Coffee\nNoise Ordinance Violations and a Plan for Responding\nSafety Update from KCPD\nUpdates from our committees.\nWord on the Street: Your chance to bring up issues\, ask questions and let us know what topics you would like to hear discussed in the future.\n\nThe meeting will be held  at our new meeting location\, the Education Center\, room EC004\, at Penn Valley Community College.  The building is in Penn Valley Parking Lot A. map 
URL:https://valentineneighborhood.org/event/join-us-for-a-general-meeting-march-22-7-p-m/
CATEGORIES:General meeting
END:VEVENT
END:VCALENDAR