BEGIN:VCALENDAR
VERSION:2.0
PRODID:-//Valentine Neighborhood Association - ECPv6.15.20//NONSGML v1.0//EN
CALSCALE:GREGORIAN
METHOD:PUBLISH
X-WR-CALNAME:Valentine Neighborhood Association
X-ORIGINAL-URL:https://valentineneighborhood.org
X-WR-CALDESC:Events for Valentine Neighborhood Association
REFRESH-INTERVAL;VALUE=DURATION:PT1H
X-Robots-Tag:noindex
X-PUBLISHED-TTL:PT1H
BEGIN:VTIMEZONE
TZID:America/Chicago
BEGIN:DAYLIGHT
TZOFFSETFROM:-0600
TZOFFSETTO:-0500
TZNAME:CDT
DTSTART:20210314T080000
END:DAYLIGHT
BEGIN:STANDARD
TZOFFSETFROM:-0500
TZOFFSETTO:-0600
TZNAME:CST
DTSTART:20211107T070000
END:STANDARD
BEGIN:DAYLIGHT
TZOFFSETFROM:-0600
TZOFFSETTO:-0500
TZNAME:CDT
DTSTART:20220313T080000
END:DAYLIGHT
BEGIN:STANDARD
TZOFFSETFROM:-0500
TZOFFSETTO:-0600
TZNAME:CST
DTSTART:20221106T070000
END:STANDARD
BEGIN:DAYLIGHT
TZOFFSETFROM:-0600
TZOFFSETTO:-0500
TZNAME:CDT
DTSTART:20230312T080000
END:DAYLIGHT
BEGIN:STANDARD
TZOFFSETFROM:-0500
TZOFFSETTO:-0600
TZNAME:CST
DTSTART:20231105T070000
END:STANDARD
END:VTIMEZONE
BEGIN:VEVENT
DTSTART;TZID=America/Chicago:20221224T140000
DTEND;TZID=America/Chicago:20221224T140000
DTSTAMP:20260423T065829
CREATED:20221206T200924Z
LAST-MODIFIED:20221206T201047Z
UID:1828-1671890400-1671890400@valentineneighborhood.org
SUMMARY:Luminaria Lighting Party
DESCRIPTION:We hope you have put our annual luminaria assembly and lighting on your holiday calendar. For folks who are new to the neighborhood\, it is a long-standing tradition for Valentine and several surrounding neighborhoods to assemble luminaria and to line the streets with them on Christmas Eve. We get together for a party to put the candles in the bags of sand and then go back out at sunset to light them. Then\, while you wait for Santa to come\, you can stroll around the neighborhood which is lit by a festive glow. Here are the details if you can participate: \n\nWe’ll get together at 2 p.m. to assemble the luminaria at the home of Dana and Patti Meier\, 629 W. 39th Terrace\n\nPark on the street and walk down the gravel driveway to the assembly area\, in the garage\nAssembly will take place in the garage\, which offers some cover from the weather\nBring gloves and small tools for scooping sand\nFood and drink will be provided\, but you are welcome to bring your own favorites\nYes\, we know there is a Chiefs game at noon. We’ll have a tv showing the game available during assembly\n\n\nWe’ll then light the candles at sunset and enjoy the glow\n\nWe could use several people with pickup trucks to help us distribute the luminaria after they are assembled\n\n\nOther neighborhoods including Roanoke also put out luminaria so you might want to make it part of your tradition to take a stroll on Christmas Eve.\n\nLuminaria Party Hosted by Dana and Patti Meier629 W. 39th TerraceDec. 24\, 2 p.m.
URL:https://valentineneighborhood.org/event/luminaria-lighting-party/
LOCATION:Dana and Patti’s House\, 629 W. 39th Terrace\, Kansas City\, 64111\, United States
CATEGORIES:Party
END:VEVENT
END:VCALENDAR