BEGIN:VCALENDAR
VERSION:2.0
PRODID:-//Valentine Neighborhood Association - ECPv6.15.20//NONSGML v1.0//EN
CALSCALE:GREGORIAN
METHOD:PUBLISH
X-ORIGINAL-URL:https://valentineneighborhood.org
X-WR-CALDESC:Events for Valentine Neighborhood Association
REFRESH-INTERVAL;VALUE=DURATION:PT1H
X-Robots-Tag:noindex
X-PUBLISHED-TTL:PT1H
BEGIN:VTIMEZONE
TZID:America/Chicago
BEGIN:DAYLIGHT
TZOFFSETFROM:-0600
TZOFFSETTO:-0500
TZNAME:CDT
DTSTART:20220313T080000
END:DAYLIGHT
BEGIN:STANDARD
TZOFFSETFROM:-0500
TZOFFSETTO:-0600
TZNAME:CST
DTSTART:20221106T070000
END:STANDARD
BEGIN:DAYLIGHT
TZOFFSETFROM:-0600
TZOFFSETTO:-0500
TZNAME:CDT
DTSTART:20230312T080000
END:DAYLIGHT
BEGIN:STANDARD
TZOFFSETFROM:-0500
TZOFFSETTO:-0600
TZNAME:CST
DTSTART:20231105T070000
END:STANDARD
BEGIN:DAYLIGHT
TZOFFSETFROM:-0600
TZOFFSETTO:-0500
TZNAME:CDT
DTSTART:20240310T080000
END:DAYLIGHT
BEGIN:STANDARD
TZOFFSETFROM:-0500
TZOFFSETTO:-0600
TZNAME:CST
DTSTART:20241103T070000
END:STANDARD
END:VTIMEZONE
BEGIN:VEVENT
DTSTART;TZID=America/Chicago:20231209T170000
DTEND;TZID=America/Chicago:20231209T170000
DTSTAMP:20260422T124356
CREATED:20231204T192603Z
LAST-MODIFIED:20231207T154432Z
UID:2200-1702141200-1702141200@valentineneighborhood.org
SUMMARY:Holiday Party
DESCRIPTION:The Valentine Holiday party will be held on Saturday\, Dec. 9 at the home of Kathleen Forster\, 3614 Pennsylvania. The neighborhood will supply a main course meat\, but you are asked to bring a dish to share. We now use the Signup Genius app to organize side dishes. \nSign up 
URL:https://valentineneighborhood.org/event/holiday-party/
LOCATION:Kathleen’s House\, 3614 Pennsylvania\, Kansas City\, MO\, 64111\, United States
CATEGORIES:Party
END:VEVENT
END:VCALENDAR