BEGIN:VCALENDAR
VERSION:2.0
PRODID:-//Valentine Neighborhood Association - ECPv6.15.20//NONSGML v1.0//EN
CALSCALE:GREGORIAN
METHOD:PUBLISH
X-ORIGINAL-URL:https://valentineneighborhood.org
X-WR-CALDESC:Events for Valentine Neighborhood Association
REFRESH-INTERVAL;VALUE=DURATION:PT1H
X-Robots-Tag:noindex
X-PUBLISHED-TTL:PT1H
BEGIN:VTIMEZONE
TZID:America/Chicago
BEGIN:DAYLIGHT
TZOFFSETFROM:-0600
TZOFFSETTO:-0500
TZNAME:CDT
DTSTART:20210314T080000
END:DAYLIGHT
BEGIN:STANDARD
TZOFFSETFROM:-0500
TZOFFSETTO:-0600
TZNAME:CST
DTSTART:20211107T070000
END:STANDARD
BEGIN:DAYLIGHT
TZOFFSETFROM:-0600
TZOFFSETTO:-0500
TZNAME:CDT
DTSTART:20220313T080000
END:DAYLIGHT
BEGIN:STANDARD
TZOFFSETFROM:-0500
TZOFFSETTO:-0600
TZNAME:CST
DTSTART:20221106T070000
END:STANDARD
BEGIN:DAYLIGHT
TZOFFSETFROM:-0600
TZOFFSETTO:-0500
TZNAME:CDT
DTSTART:20230312T080000
END:DAYLIGHT
BEGIN:STANDARD
TZOFFSETFROM:-0500
TZOFFSETTO:-0600
TZNAME:CST
DTSTART:20231105T070000
END:STANDARD
END:VTIMEZONE
BEGIN:VEVENT
DTSTART;TZID=America/Chicago:20220616T173000
DTEND;TZID=America/Chicago:20220616T190000
DTSTAMP:20260423T140312
CREATED:20220611T182338Z
LAST-MODIFIED:20220611T182348Z
UID:1723-1655400600-1655406000@valentineneighborhood.org
SUMMARY:Thirsty Thursday: June 16
DESCRIPTION:Thirsty Thursdays are Back!\nThursday Thursdays are Valentine’s informal social gatherings on a front porch or in a back yard. It is your chance to meet new neighbors and catch up with old friends. There is no agenda\, the event is strictly social. This month our hosts will be our Corie and Adrain Vogel at 3652 Jefferson. Thirsty Thursday lasts from 5:30 to 7 p.m. Bring your own drinks. All Valentine residents are welcome!
URL:https://valentineneighborhood.org/event/thirsty-thursday-june-16/
CATEGORIES:Thirsty Thursday
END:VEVENT
END:VCALENDAR