BEGIN:VCALENDAR
VERSION:2.0
PRODID:-//Valentine Neighborhood Association - ECPv6.15.20//NONSGML v1.0//EN
CALSCALE:GREGORIAN
METHOD:PUBLISH
X-ORIGINAL-URL:https://valentineneighborhood.org
X-WR-CALDESC:Events for Valentine Neighborhood Association
REFRESH-INTERVAL;VALUE=DURATION:PT1H
X-Robots-Tag:noindex
X-PUBLISHED-TTL:PT1H
BEGIN:VTIMEZONE
TZID:America/Chicago
BEGIN:DAYLIGHT
TZOFFSETFROM:-0600
TZOFFSETTO:-0500
TZNAME:CDT
DTSTART:20210314T080000
END:DAYLIGHT
BEGIN:STANDARD
TZOFFSETFROM:-0500
TZOFFSETTO:-0600
TZNAME:CST
DTSTART:20211107T070000
END:STANDARD
BEGIN:DAYLIGHT
TZOFFSETFROM:-0600
TZOFFSETTO:-0500
TZNAME:CDT
DTSTART:20220313T080000
END:DAYLIGHT
BEGIN:STANDARD
TZOFFSETFROM:-0500
TZOFFSETTO:-0600
TZNAME:CST
DTSTART:20221106T070000
END:STANDARD
BEGIN:DAYLIGHT
TZOFFSETFROM:-0600
TZOFFSETTO:-0500
TZNAME:CDT
DTSTART:20230312T080000
END:DAYLIGHT
BEGIN:STANDARD
TZOFFSETFROM:-0500
TZOFFSETTO:-0600
TZNAME:CST
DTSTART:20231105T070000
END:STANDARD
END:VTIMEZONE
BEGIN:VEVENT
DTSTART;TZID=America/Chicago:20220814T080000
DTEND;TZID=America/Chicago:20220814T170000
DTSTAMP:20260423T110245
CREATED:20220814T205906Z
LAST-MODIFIED:20220814T210039Z
UID:1754-1660464000-1660496400@valentineneighborhood.org
SUMMARY:Thirsty Thursday: Special Event at Lilly’s Cantina
DESCRIPTION:We’re doing something special for Thirsty Thursday. Instead of getting together at a neighbor’s home\, we’re going to meet up at a Valentine restaurant for drinks. The event takes place Thursday\, August 18 at 5:30 p.m. to 7 p.m. at Lilly’s Cantina\, 3711 Southwest Trafficway. \nLilly’s will provide cheese dip\, chips\, and salsa and offer Valentine Thirsty Thursday food and drink specials. More about Lilly’s \n Most Valentine residents will want to avoid parking on Southwest Trafficway. Instead\, use the parking lot off of 37th Street or park on 37th. Look for the Thirsty Thursday sign on the back door. \nSee you there!
URL:https://valentineneighborhood.org/event/thirsty-thursday-special-event-at-lillys-cantina/
CATEGORIES:Thirsty Thursday
ATTACH;FMTTYPE=image/jpeg:https://valentineneighborhood.org/wp-content/uploads/2022/08/Lillys.jpg
END:VEVENT
END:VCALENDAR