BEGIN:VCALENDAR
VERSION:2.0
PRODID:-//Valentine Neighborhood Association - ECPv6.15.20//NONSGML v1.0//EN
CALSCALE:GREGORIAN
METHOD:PUBLISH
X-WR-CALNAME:Valentine Neighborhood Association
X-ORIGINAL-URL:https://valentineneighborhood.org
X-WR-CALDESC:Events for Valentine Neighborhood Association
REFRESH-INTERVAL;VALUE=DURATION:PT1H
X-Robots-Tag:noindex
X-PUBLISHED-TTL:PT1H
BEGIN:VTIMEZONE
TZID:America/Chicago
BEGIN:DAYLIGHT
TZOFFSETFROM:-0600
TZOFFSETTO:-0500
TZNAME:CDT
DTSTART:20240310T080000
END:DAYLIGHT
BEGIN:STANDARD
TZOFFSETFROM:-0500
TZOFFSETTO:-0600
TZNAME:CST
DTSTART:20241103T070000
END:STANDARD
BEGIN:DAYLIGHT
TZOFFSETFROM:-0600
TZOFFSETTO:-0500
TZNAME:CDT
DTSTART:20250309T080000
END:DAYLIGHT
BEGIN:STANDARD
TZOFFSETFROM:-0500
TZOFFSETTO:-0600
TZNAME:CST
DTSTART:20251102T070000
END:STANDARD
BEGIN:DAYLIGHT
TZOFFSETFROM:-0600
TZOFFSETTO:-0500
TZNAME:CDT
DTSTART:20260308T080000
END:DAYLIGHT
BEGIN:STANDARD
TZOFFSETFROM:-0500
TZOFFSETTO:-0600
TZNAME:CST
DTSTART:20261101T070000
END:STANDARD
END:VTIMEZONE
BEGIN:VEVENT
DTSTART;TZID=America/Chicago:20250717T173000
DTEND;TZID=America/Chicago:20250717T190000
DTSTAMP:20260421T054733
CREATED:20250714T144543Z
LAST-MODIFIED:20250714T144543Z
UID:2617-1752773400-1752778800@valentineneighborhood.org
SUMMARY:Thirsty Thursday
DESCRIPTION:Our hosts for the July 17 event will be Travis and Christy at  632 W. 39th Terrace. Thirsty Thursdays are Valentine’s informal social gatherings on a front porch or in a backyard. They are your chance to meet new neighbors and catch up with old friends. There is no agenda; the event is strictly social. Thirsty Thursday begins at 5:30 p.m. and wraps up at 7:00 p.m. Bring your own drinks!
URL:https://valentineneighborhood.org/event/thirsty-thursday-16/
CATEGORIES:Thirsty Thursday
END:VEVENT
END:VCALENDAR